BEGIN:VCALENDAR
VERSION:2.0
PRODID:-//hacksw/handcal//NONSGML v1.0//EN
BEGIN:VEVENT
SUMMARY:Championnat regional PACA 1ere division Juniors
UID:70728145-4fb4-4686-b135-c5fb29b7019a
DTSTART:20260313T230000Z
DTEND:20260314T230000Z
LOCATION:Localisation   
CATEGORIES:Sportif
STATUS:
DESCRIPTION:<div><span
 id="ctl00_ContentPlaceContent_pbarEvent_i0_lbDate">Le
 14/03/2026 </span></div>
 
 <div><span
 id="ctl00_ContentPlaceContent_pbarEvent_i0_lbLieu">DOJO REGIONAL DE
 BOUGAINVILLE</span><br>
 <span
 id="ctl00_ContentPlaceContent_pbarEvent_i0_lbAdresse">6 BOULEVARD DE
 SEVIGNE </span></div>
 
 <div><span>13015,
 MARSEILLE</span></div>
 
 <div> </div>
 
 <div>
 <p>Pesee des juniors
 feminines : 9H/9H30, debut des combats 10H</p>
 
 <p>Pesee des juniors
 masculins : 12H30/13H, debut des combats 13H30</p>
 </div>
URL;VALUE=URI:https://www.escljudo.com/evenements/2026/03/14/championnat-regional-paca-1ere-division-juniors-2420889
END:VEVENT
END:VCALENDAR
